BEGIN:VCALENDAR
VERSION:2.0
PRODID:-//Campania Enterprise - ECPv6.15.13.1//NONSGML v1.0//EN
CALSCALE:GREGORIAN
METHOD:PUBLISH
X-WR-CALNAME:Campania Enterprise
X-ORIGINAL-URL:https://campaniaenterprise.com
X-WR-CALDESC:Events for Campania Enterprise
REFRESH-INTERVAL;VALUE=DURATION:PT1H
X-Robots-Tag:noindex
X-PUBLISHED-TTL:PT1H
BEGIN:VTIMEZONE
TZID:Australia/Melbourne
BEGIN:STANDARD
TZOFFSETFROM:+1100
TZOFFSETTO:+1000
TZNAME:AEST
DTSTART:20230401T160000
END:STANDARD
BEGIN:DAYLIGHT
TZOFFSETFROM:+1000
TZOFFSETTO:+1100
TZNAME:AEDT
DTSTART:20230930T160000
END:DAYLIGHT
BEGIN:STANDARD
TZOFFSETFROM:+1100
TZOFFSETTO:+1000
TZNAME:AEST
DTSTART:20240406T160000
END:STANDARD
BEGIN:DAYLIGHT
TZOFFSETFROM:+1000
TZOFFSETTO:+1100
TZNAME:AEDT
DTSTART:20241005T160000
END:DAYLIGHT
BEGIN:STANDARD
TZOFFSETFROM:+1100
TZOFFSETTO:+1000
TZNAME:AEST
DTSTART:20250405T160000
END:STANDARD
BEGIN:DAYLIGHT
TZOFFSETFROM:+1000
TZOFFSETTO:+1100
TZNAME:AEDT
DTSTART:20251004T160000
END:DAYLIGHT
END:VTIMEZONE
BEGIN:VEVENT
DTSTART;TZID=Australia/Melbourne:20241227T140000
DTEND;TZID=Australia/Melbourne:20241227T170000
DTSTAMP:20260423T211510
CREATED:20241003T164820Z
LAST-MODIFIED:20241003T164820Z
UID:584-1735308000-1735318800@campaniaenterprise.com
SUMMARY:19 Jasmine St Wakerley
DESCRIPTION:27th December 2pm clean next checkin next day
URL:https://campaniaenterprise.com/event/19-jasmine-st-wakerley-8/
LOCATION:19 Jasmine St Wakerley\, 19 Jasmine St Wakerley\, Australia
END:VEVENT
BEGIN:VEVENT
DTSTART;TZID=Australia/Melbourne:20241227T100000
DTEND;TZID=Australia/Melbourne:20241227T170000
DTSTAMP:20260423T211510
CREATED:20241003T164918Z
LAST-MODIFIED:20241003T164918Z
UID:588-1735293600-1735318800@campaniaenterprise.com
SUMMARY:8/250 Scrubb Road Carindale
DESCRIPTION:27th December 10am clean next checkin same dayC38
URL:https://campaniaenterprise.com/event/8-250-scrubb-road-carindale-9/
LOCATION:8/250 Scrubb Road Carindale\, 8/250 Scrubb Road Carindale\, Australia
END:VEVENT
BEGIN:VEVENT
DTSTART;TZID=Australia/Melbourne:20241221T100000
DTEND;TZID=Australia/Melbourne:20241221T170000
DTSTAMP:20260423T211510
CREATED:20241003T164854Z
LAST-MODIFIED:20241003T164854Z
UID:586-1734775200-1734800400@campaniaenterprise.com
SUMMARY:8/250 Scrubb Road Carindale
DESCRIPTION:21 December 10 am clean next checkin same day
URL:https://campaniaenterprise.com/event/8-250-scrubb-road-carindale-8/
LOCATION:8/250 Scrubb Road Carindale\, 8/250 Scrubb Road Carindale\, Australia
END:VEVENT
BEGIN:VEVENT
DTSTART;TZID=Australia/Melbourne:20241221T100000
DTEND;TZID=Australia/Melbourne:20241221T170000
DTSTAMP:20260423T211510
CREATED:20241003T164748Z
LAST-MODIFIED:20241003T164748Z
UID:582-1734775200-1734800400@campaniaenterprise.com
SUMMARY:19 Jasmine St Wakerley
DESCRIPTION:21 December 10am clean next checkin same day
URL:https://campaniaenterprise.com/event/19-jasmine-st-wakerley-7/
LOCATION:19 Jasmine St Wakerley\, 19 Jasmine St Wakerley\, Australia
END:VEVENT
BEGIN:VEVENT
DTSTART;TZID=Australia/Melbourne:20241129T100000
DTEND;TZID=Australia/Melbourne:20241129T170000
DTSTAMP:20260423T211510
CREATED:20241003T164658Z
LAST-MODIFIED:20241003T164658Z
UID:580-1732874400-1732899600@campaniaenterprise.com
SUMMARY:8/250 Scrubb Road Carindale
DESCRIPTION:29th November 10 am clean next checkin same day
URL:https://campaniaenterprise.com/event/8-250-scrubb-road-carindale-7/
LOCATION:8/250 Scrubb Road Carindale\, 8/250 Scrubb Road Carindale\, Australia
END:VEVENT
BEGIN:VEVENT
DTSTART;TZID=Australia/Melbourne:20241125T100000
DTEND;TZID=Australia/Melbourne:20241125T170000
DTSTAMP:20260423T211510
CREATED:20241003T164315Z
LAST-MODIFIED:20241003T164315Z
UID:570-1732528800-1732554000@campaniaenterprise.com
SUMMARY:19 Jasmine St Wakerley
DESCRIPTION:25th November next checkin same day
URL:https://campaniaenterprise.com/event/19-jasmine-st-wakerley-6/
LOCATION:19 Jasmine St Wakerley\, 19 Jasmine St Wakerley\, Australia
END:VEVENT
BEGIN:VEVENT
DTSTART;TZID=Australia/Melbourne:20241115T100000
DTEND;TZID=Australia/Melbourne:20241115T170000
DTSTAMP:20260423T211510
CREATED:20241003T164628Z
LAST-MODIFIED:20241003T164628Z
UID:578-1731664800-1731690000@campaniaenterprise.com
SUMMARY:8/250 Scrubb Road Carindale
DESCRIPTION:15th November 10am clean next checkin same day
URL:https://campaniaenterprise.com/event/8-250-scrubb-road-carindale-6/
LOCATION:8/250 Scrubb Road Carindale\, 8/250 Scrubb Road Carindale\, Australia
END:VEVENT
BEGIN:VEVENT
DTSTART;TZID=Australia/Melbourne:20241110T100000
DTEND;TZID=Australia/Melbourne:20241110T170000
DTSTAMP:20260423T211510
CREATED:20241003T164228Z
LAST-MODIFIED:20241003T164228Z
UID:568-1731232800-1731258000@campaniaenterprise.com
SUMMARY:19 Jasmine St Wakerley
DESCRIPTION:10th November 10am clean next checkin same day
URL:https://campaniaenterprise.com/event/19-jasmine-st-wakerley-5/
LOCATION:19 Jasmine St Wakerley\, 19 Jasmine St Wakerley\, Australia
END:VEVENT
BEGIN:VEVENT
DTSTART;TZID=Australia/Melbourne:20241030T100000
DTEND;TZID=Australia/Melbourne:20241030T170000
DTSTAMP:20260423T211510
CREATED:20241003T163931Z
LAST-MODIFIED:20241003T163931Z
UID:561-1730282400-1730307600@campaniaenterprise.com
SUMMARY:2/93 Albert St Camp HIll
DESCRIPTION:30th Oct 10am clean next checkin same day
URL:https://campaniaenterprise.com/event/2-93-albert-st-camp-hill-5/
LOCATION:2/93 Albert St Camp HIll\, 2/93 Albert St Camp HIll\, Australia
END:VEVENT
BEGIN:VEVENT
DTSTART;TZID=Australia/Melbourne:20241027T100000
DTEND;TZID=Australia/Melbourne:20241027T170000
DTSTAMP:20260423T211510
CREATED:20241003T163625Z
LAST-MODIFIED:20241003T163625Z
UID:550-1730023200-1730048400@campaniaenterprise.com
SUMMARY:19 Jasmine St Wakerley
DESCRIPTION:27th Oct 10am clean next checkin same day
URL:https://campaniaenterprise.com/event/19-jasmine-st-wakerley-4/
LOCATION:19 Jasmine St Wakerley\, 19 Jasmine St Wakerley\, Australia
END:VEVENT
BEGIN:VEVENT
DTSTART;TZID=Australia/Melbourne:20241026T100000
DTEND;TZID=Australia/Melbourne:20241026T170000
DTSTAMP:20260423T211510
CREATED:20241003T163532Z
LAST-MODIFIED:20241003T163532Z
UID:548-1729936800-1729962000@campaniaenterprise.com
SUMMARY:19 Jasmine St Wakerley
DESCRIPTION:26th Oct 10am clean next chekin same day
URL:https://campaniaenterprise.com/event/19-jasmine-st-wakerley-3/
LOCATION:19 Jasmine St Wakerley\, 19 Jasmine St Wakerley\, Australia
END:VEVENT
BEGIN:VEVENT
DTSTART;TZID=Australia/Melbourne:20241021T100000
DTEND;TZID=Australia/Melbourne:20241021T170000
DTSTAMP:20260423T211510
CREATED:20241003T164530Z
LAST-MODIFIED:20241003T164530Z
UID:576-1729504800-1729530000@campaniaenterprise.com
SUMMARY:8/250 Scrubb Road Carindale
DESCRIPTION:21st October 10am clean next checkin same day
URL:https://campaniaenterprise.com/event/8-250-scrubb-road-carindale-5/
LOCATION:8/250 Scrubb Road Carindale\, 8/250 Scrubb Road Carindale\, Australia
END:VEVENT
BEGIN:VEVENT
DTSTART;TZID=Australia/Melbourne:20241017T100000
DTEND;TZID=Australia/Melbourne:20241017T170000
DTSTAMP:20260423T211510
CREATED:20241003T164500Z
LAST-MODIFIED:20241003T164500Z
UID:574-1729159200-1729184400@campaniaenterprise.com
SUMMARY:8/250 Scrubb Road Carindale
DESCRIPTION:17th October 10am clean next checkin same day
URL:https://campaniaenterprise.com/event/8-250-scrubb-road-carindale-4/
LOCATION:8/250 Scrubb Road Carindale\, 8/250 Scrubb Road Carindale\, Australia
END:VEVENT
BEGIN:VEVENT
DTSTART;TZID=Australia/Melbourne:20241017T100000
DTEND;TZID=Australia/Melbourne:20241017T170000
DTSTAMP:20260423T211510
CREATED:20241003T163446Z
LAST-MODIFIED:20241003T163446Z
UID:546-1729159200-1729184400@campaniaenterprise.com
SUMMARY:19 Jasmine St Wakerley
DESCRIPTION:17th Oct 10am clean next checkin same day
URL:https://campaniaenterprise.com/event/19-jasmine-st-wakerley-2/
LOCATION:19 Jasmine St Wakerley\, 19 Jasmine St Wakerley\, Australia
END:VEVENT
BEGIN:VEVENT
DTSTART;TZID=Australia/Melbourne:20241014T100000
DTEND;TZID=Australia/Melbourne:20241014T170000
DTSTAMP:20260423T211510
CREATED:20241003T163901Z
LAST-MODIFIED:20241003T163901Z
UID:559-1728900000-1728925200@campaniaenterprise.com
SUMMARY:2/93 Albert St Camp HIll
DESCRIPTION:14th Oct 10am clean next checkin same day
URL:https://campaniaenterprise.com/event/2-93-albert-st-camp-hill-4/
LOCATION:2/93 Albert St Camp HIll\, 2/93 Albert St Camp HIll\, Australia
END:VEVENT
BEGIN:VEVENT
DTSTART;TZID=Australia/Melbourne:20241013T100000
DTEND;TZID=Australia/Melbourne:20241013T170000
DTSTAMP:20260423T211510
CREATED:20241003T164414Z
LAST-MODIFIED:20241003T164414Z
UID:572-1728813600-1728838800@campaniaenterprise.com
SUMMARY:8/250 Scrubb Road Carindale
DESCRIPTION:13th Oct 10am clean next checkin same day
URL:https://campaniaenterprise.com/event/8-250-scrubb-road-carindale-3/
LOCATION:8/250 Scrubb Road Carindale\, 8/250 Scrubb Road Carindale\, Australia
END:VEVENT
BEGIN:VEVENT
DTSTART;TZID=Australia/Melbourne:20241007T100000
DTEND;TZID=Australia/Melbourne:20241007T170000
DTSTAMP:20260423T211510
CREATED:20241003T163349Z
LAST-MODIFIED:20241003T163349Z
UID:544-1728295200-1728320400@campaniaenterprise.com
SUMMARY:19 Jasmine St Wakerley
DESCRIPTION:7th Oct 10 am clean next checkin same day
URL:https://campaniaenterprise.com/event/19-jasmine-st-wakerley/
LOCATION:19 Jasmine St Wakerley\, 19 Jasmine St Wakerley\, Australia
END:VEVENT
BEGIN:VEVENT
DTSTART;TZID=Australia/Melbourne:20241006T100000
DTEND;TZID=Australia/Melbourne:20241006T170000
DTSTAMP:20260423T211510
CREATED:20241003T164114Z
LAST-MODIFIED:20241003T164114Z
UID:566-1728208800-1728234000@campaniaenterprise.com
SUMMARY:8/250 Scrubb Road Carindale
DESCRIPTION:6th Oct 10am clean next checkin same day
URL:https://campaniaenterprise.com/event/8-250-scrubb-road-carindale-2/
END:VEVENT
BEGIN:VEVENT
DTSTART;TZID=Australia/Melbourne:20241006T100000
DTEND;TZID=Australia/Melbourne:20241006T170000
DTSTAMP:20260423T211510
CREATED:20241003T163834Z
LAST-MODIFIED:20241003T163834Z
UID:557-1728208800-1728234000@campaniaenterprise.com
SUMMARY:2/93 Albert St Camp HIll
DESCRIPTION:6th Oct 10am clean next checkin same day
URL:https://campaniaenterprise.com/event/2-93-albert-st-camp-hill-3/
LOCATION:2/93 Albert St Camp HIll\, 2/93 Albert St Camp HIll\, Australia
END:VEVENT
BEGIN:VEVENT
DTSTART;TZID=Australia/Melbourne:20241005T100000
DTEND;TZID=Australia/Melbourne:20241005T170000
DTSTAMP:20260423T211510
CREATED:20241003T163758Z
LAST-MODIFIED:20241003T163758Z
UID:555-1728122400-1728147600@campaniaenterprise.com
SUMMARY:2/93 Albert St Camp HIll
DESCRIPTION:5th October 10am clean next checkin same day
URL:https://campaniaenterprise.com/event/2-93-albert-st-camp-hill-2/
LOCATION:2/93 Albert St Camp HIll\, 2/93 Albert St Camp HIll\, Australia
END:VEVENT
BEGIN:VEVENT
DTSTART;TZID=Australia/Melbourne:20241004T100000
DTEND;TZID=Australia/Melbourne:20241004T170000
DTSTAMP:20260423T211510
CREATED:20241003T164049Z
LAST-MODIFIED:20241003T164049Z
UID:563-1728036000-1728061200@campaniaenterprise.com
SUMMARY:8/250 Scrubb Road Carindale
DESCRIPTION:4th oct 10am clean next check in same day
URL:https://campaniaenterprise.com/event/8-250-scrubb-road-carindale/
LOCATION:8/250 Scrubb Road Carindale\, 8/250 Scrubb Road Carindale\, Australia
END:VEVENT
BEGIN:VEVENT
DTSTART;TZID=Australia/Melbourne:20241003T100000
DTEND;TZID=Australia/Melbourne:20241003T170000
DTSTAMP:20260423T211510
CREATED:20241003T161251Z
LAST-MODIFIED:20241003T163217Z
UID:519-1727949600-1727974800@campaniaenterprise.com
SUMMARY:19 Jasmine St Wakerley
DESCRIPTION:3rd oct 10am clean next  checking same day
URL:https://campaniaenterprise.com/event/3rd-october-2024-19-jasmine-st-wakerley/
LOCATION:19 Jasmine St Wakerley\, 19 Jasmine St Wakerley\, Australia
END:VEVENT
BEGIN:VEVENT
DTSTART;TZID=Australia/Melbourne:20241002T100000
DTEND;TZID=Australia/Melbourne:20241002T170000
DTSTAMP:20260423T211510
CREATED:20241003T163732Z
LAST-MODIFIED:20241003T163732Z
UID:552-1727863200-1727888400@campaniaenterprise.com
SUMMARY:2/93 Albert St Camp HIll
DESCRIPTION:2 October 10am clean next checkin same day
URL:https://campaniaenterprise.com/event/2-93-albert-st-camp-hill/
LOCATION:2/93 Albert St Camp HIll\, 2/93 Albert St Camp HIll\, Australia
END:VEVENT
END:VCALENDAR